
BEGIN:VCALENDAR
VERSION:2.0
PRODID:-//Corregedorias TJBA - ECPv6.3.4//NONSGML v1.0//EN
CALSCALE:GREGORIAN
METHOD:PUBLISH
X-ORIGINAL-URL:https://www.tjba.jus.br/corregedoria
X-WR-CALDESC:Eventos para Corregedorias TJBA
REFRESH-INTERVAL;VALUE=DURATION:PT1H
X-Robots-Tag:noindex
X-PUBLISHED-TTL:PT1H
BEGIN:VTIMEZONE
TZID:America/Recife
BEGIN:STANDARD
TZOFFSETFROM:-0300
TZOFFSETTO:-0300
TZNAME:-03
DTSTART:20230101T000000
END:STANDARD
END:VTIMEZONE
BEGIN:VEVENT
DTSTART;VALUE=DATE:20230125
DTEND;VALUE=DATE:20230128
DTSTAMP:20260423T183411
CREATED:20230120T181915Z
LAST-MODIFIED:20230120T181915Z
UID:10181-1674604800-1674863999@www.tjba.jus.br
SUMMARY:Correição Valença
DESCRIPTION:
URL:https://www.tjba.jus.br/corregedoria/event/correicao-valenca/
CATEGORIES:Correições
END:VEVENT
END:VCALENDAR