
BEGIN:VCALENDAR
VERSION:2.0
PRODID:-//Corregedorias TJBA - ECPv6.3.4//NONSGML v1.0//EN
CALSCALE:GREGORIAN
METHOD:PUBLISH
X-ORIGINAL-URL:https://www.tjba.jus.br/corregedoria
X-WR-CALDESC:Eventos para Corregedorias TJBA
REFRESH-INTERVAL;VALUE=DURATION:PT1H
X-Robots-Tag:noindex
X-PUBLISHED-TTL:PT1H
BEGIN:VTIMEZONE
TZID:America/Recife
BEGIN:STANDARD
TZOFFSETFROM:-0300
TZOFFSETTO:-0300
TZNAME:-03
DTSTART:20220101T000000
END:STANDARD
END:VTIMEZONE
BEGIN:VEVENT
DTSTART;TZID=America/Recife:20220405T080000
DTEND;TZID=America/Recife:20220405T170000
DTSTAMP:20260424T061354
CREATED:20220304T155503Z
LAST-MODIFIED:20220410T132719Z
UID:9215-1649145600-1649178000@www.tjba.jus.br
SUMMARY:Teste 5
DESCRIPTION:
URL:https://www.tjba.jus.br/corregedoria/event/teste-5/
CATEGORIES:Correições
END:VEVENT
END:VCALENDAR