BEGIN:VCALENDAR
VERSION:2.0
PRODID:-//Portal Justiça Restaurativa - ECPv6.15.11//NONSGML v1.0//EN
CALSCALE:GREGORIAN
METHOD:PUBLISH
X-WR-CALNAME:Portal Justiça Restaurativa
X-ORIGINAL-URL:https://www.tjba.jus.br/portaljusticarestaurativa
X-WR-CALDESC:Eventos para Portal Justiça Restaurativa
REFRESH-INTERVAL;VALUE=DURATION:PT1H
X-Robots-Tag:noindex
X-PUBLISHED-TTL:PT1H
BEGIN:VTIMEZONE
TZID:America/Bahia
BEGIN:STANDARD
TZOFFSETFROM:-0300
TZOFFSETTO:-0300
TZNAME:-03
DTSTART:20240101T000000
END:STANDARD
END:VTIMEZONE
BEGIN:VEVENT
DTSTART;VALUE=DATE:20250930
DTEND;VALUE=DATE:20251002
DTSTAMP:20260424T062753
CREATED:20250926T175535Z
LAST-MODIFIED:20250926T175707Z
UID:11725-1759190400-1759363199@www.tjba.jus.br
SUMMARY:Curso Liderança Transformadora - Turma 01
DESCRIPTION:Turma fechada. \nInstrutora: Cristiana Lopes
URL:https://www.tjba.jus.br/portaljusticarestaurativa/event/curso-lideranca-transformadora-turma-01/
LOCATION:Tribunal de Justiça do Estado da Bahia
END:VEVENT
BEGIN:VEVENT
DTSTART;VALUE=DATE:20251013
DTEND;VALUE=DATE:20251016
DTSTAMP:20260424T062753
CREATED:20251002T191522Z
LAST-MODIFIED:20251002T191522Z
UID:11820-1760313600-1760572799@www.tjba.jus.br
SUMMARY:Curso de Formação de Facilitadores em Processos Circulares | Mod I - Não-Conflitivo | Ilhéus
DESCRIPTION:Turma fechada. \nInstrutores: Sandra Magali Brito S. Mendonça e Thomas Herbert Lacerda Santos. \nPúblico-alvo: Servidores do Judiciário\, voluntários do CEJUSC – equipe pré-selecionada para atuar no Centro Judiciário de Solução de Conflitos – Restaurativo – CEJUSC Restaurativo – na Comarca de Ilhéus\, Polícia Militar do estado da Bahia e técnicos da rede municipal. \n 
URL:https://www.tjba.jus.br/portaljusticarestaurativa/event/curso-de-formacao-de-facilitadores-em-processos-circulares-mod-i-nao-conflitivo-ilheus/
LOCATION:Fórum de Ilhéus
END:VEVENT
BEGIN:VEVENT
DTSTART;VALUE=DATE:20251021
DTEND;VALUE=DATE:20251023
DTSTAMP:20260424T062753
CREATED:20250926T180316Z
LAST-MODIFIED:20250926T180316Z
UID:11728-1761004800-1761177599@www.tjba.jus.br
SUMMARY:Curso Liderança Transformadora - Turma 02
DESCRIPTION:Público-alvo: Magistrados\, servidores públicos\, coordenadores e gestores de unidades que aplicam as\npráticas restaurativas. \nInstrutor (a): Cristiana Lopes \nLocal: Tribunal de Justiça do Estado da Bahia. \nInscrições no SIEC.
URL:https://www.tjba.jus.br/portaljusticarestaurativa/event/curso-lideranca-transformadora-turma-02/
END:VEVENT
BEGIN:VEVENT
DTSTART;VALUE=DATE:20251027
DTEND;VALUE=DATE:20251029
DTSTAMP:20260424T062753
CREATED:20250926T180700Z
LAST-MODIFIED:20250926T180700Z
UID:11730-1761523200-1761695999@www.tjba.jus.br
SUMMARY:Dia do Servidor Público
DESCRIPTION:Dia do Servidor Público – Expediente Suspenso conforme DECRETO JUDICIÁRIO N. 950\, DE 12 DE DEZEMBRO DE 2024.
URL:https://www.tjba.jus.br/portaljusticarestaurativa/event/dia-do-servidor-publico/
END:VEVENT
BEGIN:VEVENT
DTSTART;VALUE=DATE:20251029
DTEND;VALUE=DATE:20251101
DTSTAMP:20260424T062753
CREATED:20250926T181020Z
LAST-MODIFIED:20250926T181020Z
UID:11732-1761696000-1761955199@www.tjba.jus.br
SUMMARY:Curso de Formação de Instrutores - Círculos de Construção de Paz Não-Conflitivos - 1ª ETAPA
DESCRIPTION:Turma fechada \nInstrutoras: Sandra Mendonça e Fausta Cajahyba
URL:https://www.tjba.jus.br/portaljusticarestaurativa/event/curso-de-formacao-de-instrutores-circulos-de-construcao-de-paz-nao-conflitivos-1a-etapa/
LOCATION:Tribunal de Justiça do Estado da Bahia
END:VEVENT
END:VCALENDAR