BEGIN:VCALENDAR
VERSION:2.0
PRODID:-//Portal Justiça Restaurativa - ECPv6.15.11//NONSGML v1.0//EN
CALSCALE:GREGORIAN
METHOD:PUBLISH
X-WR-CALNAME:Portal Justiça Restaurativa
X-ORIGINAL-URL:https://www.tjba.jus.br/portaljusticarestaurativa
X-WR-CALDESC:Eventos para Portal Justiça Restaurativa
REFRESH-INTERVAL;VALUE=DURATION:PT1H
X-Robots-Tag:noindex
X-PUBLISHED-TTL:PT1H
BEGIN:VTIMEZONE
TZID:America/Bahia
BEGIN:STANDARD
TZOFFSETFROM:-0300
TZOFFSETTO:-0300
TZNAME:-03
DTSTART:20250101T000000
END:STANDARD
END:VTIMEZONE
BEGIN:VEVENT
DTSTART;VALUE=DATE:20260318
DTEND;VALUE=DATE:20260321
DTSTAMP:20260422T102856
CREATED:20251023T172839Z
LAST-MODIFIED:20260415T202142Z
UID:11891-1773792000-1774051199@www.tjba.jus.br
SUMMARY:II Encontro Nacional Mulheres na Justiça Restaurativa
DESCRIPTION:O Encontro tem por finalidade promover a troca de experiências e boas práticas na área da Justiça Restaurativa\, especialmente sob a perspectiva da participação feminina\, destacando desafios\, avanços e contribuições para uma Justiça mais humanizada e inclusiva.\nPara mais informações\, acesse: https://www.tjba.jus.br/portaljusticarestaurativa/ii-encontro-nacional-de-mulheres-na-justica-restaurativa/
URL:https://www.tjba.jus.br/portaljusticarestaurativa/event/ii-encontro-nacional-mulheres-na-justica-restaurativa/
END:VEVENT
END:VCALENDAR